BEGIN:VCALENDAR
PRODID:NingEventWidget-v1
VERSION:2.0
METHOD:PUBLISH
BEGIN:VTIMEZONE
TZID:America/Detroit
X-LIC-LOCATION:America/Detroit
BEGIN:DAYLIGHT
TZOFFSETFROM:-0500
TZOFFSETTO:-0400
TZNAME:EDT
DTSTART:19700308T020000
RRULE:FREQ=YEARLY;BYMONTH=3;BYDAY=2SU
END:DAYLIGHT
BEGIN:STANDARD
TZOFFSETFROM:-0400
TZOFFSETTO:-0500
TZNAME:EST
DTSTART:19701101T020000
RRULE:FREQ=YEARLY;BYMONTH=11;BYDAY=1SU
END:STANDARD
END:VTIMEZONE
BEGIN:VEVENT
UID:1980062:Event:51570
DTSTAMP:20260421T190624Z
SUMMARY:Spring Training: Medical Therapeutics in Dermatology
DESCRIPTION:Now is an exciting time in medical dermatology! New biolog
 ics, genetic testing, and telemedicine have changed our landscape of t
 reatment options and changed the therapeutic ladders. Join us in Scott
 sdale for an expert, interactive review of where we are and where we a
 re going in the field of medical dermatology.\n\nFor more information 
 visit https://community.dermrounds.com/events/spring-training-medical-
 therapeutics-in-dermatology
DTSTART;TZID=America/Detroit:20170422T080000
DTEND;TZID=America/Detroit:20170422T170000
CATEGORIES:training, course
LOCATION:The Scottsdale Plaza Resort
WEBSITE:http://pacificderm.org/spring-training/
URL:http://pacificderm.org/spring-training/
CONTACT:888/388-8815
ORGANIZER:Pacific Dermatologic Association
ATTACH;FMTTYPE="image/jpeg":
ATTENDEE;ROLE=REQ-PARTICIPANT;PARTSTAT=ACCEPTED;RSVP=TRUE;CN="SkinDoc 
 MD":https://community.dermrounds.com/profile/SkinDocMD
END:VEVENT
END:VCALENDAR
