BEGIN:VCALENDAR
PRODID:NingEventWidget-v1
VERSION:2.0
METHOD:PUBLISH
BEGIN:VTIMEZONE
TZID:America/Detroit
X-LIC-LOCATION:America/Detroit
BEGIN:DAYLIGHT
TZOFFSETFROM:-0500
TZOFFSETTO:-0400
TZNAME:EDT
DTSTART:19700308T020000
RRULE:FREQ=YEARLY;BYMONTH=3;BYDAY=2SU
END:DAYLIGHT
BEGIN:STANDARD
TZOFFSETFROM:-0400
TZOFFSETTO:-0500
TZNAME:EST
DTSTART:19701101T020000
RRULE:FREQ=YEARLY;BYMONTH=11;BYDAY=1SU
END:STANDARD
END:VTIMEZONE
BEGIN:VEVENT
UID:1980062:Event:51788
DTSTAMP:20260422T004250Z
SUMMARY:US Cosmetic Regulation - FDA CFR Title 21
DESCRIPTION:Course runs 9:00 - 5:00 on Day 1 & Day 2 -- 9:00 - 3:00 on
  Day 3 (Breakfast & Lunch Included)Today's consumer product companies 
 face a tremendous task of bringing newer, better products into the mar
 ket within a much shorter time frame. A successful market entry strate
 gy often incorporates complex configuration of consumer trend analysis
 , scientific know-how, efficiency in product development and supply ch
 ain management. It is also essential to factor in regulatory feasibili
 ty analysis early in the game to avoid unexpected, last minute delay i
 n product launch.Cosmetic products marketed in the US are regulated un
 der the authority of the Food & Drug Administration (FDA). The regulat
 ions pertinent to cosmetic products are published in Title 21, Code of
  Federal Regulations, in particular, parts 700 to 740. In addition, ne
 w legislation such as the Safe Cosmetics Act of 2011 is emerging and m
 ay lead to more stringent requirements in the foreseeable future.This 
 course provides an in-depth guide to the US cosmetic legislative frame
 work. Key focus is placed on helping the participants to successfully 
 navigate both existing cosmetic regulations and anticipated future leg
 islation. A brief overview of international regulations will be given 
 to help the participants develop global perspectives. Workshops with a
 ctual case studies will be conducted throughout the course to bring th
 e participants closer to the reality of marketing cosmetic products in
  the US.Who Should AttendThis three-day course is designed for profess
 ionals in the personal care, cosmetic and pharmaceutical industries en
 gaged in all phases of cosmetic product development, including:Researc
 h & DevelopmentTechnology, Formulation & Product DevelopmentMarketing 
 & Technical SalesRegulatory AffairsQA & QC ProfessionalsBusiness Decis
 ion Makers\n\nFor more information visit https://community.dermrounds.
 com/events/us-cosmetic-regulation-fda-cfr-title-21
DTSTART;TZID=America/Detroit:20171025T090000
DTEND;TZID=America/Detroit:20171027T170000
CATEGORIES:course
LOCATION:Hilton Los Angeles Airport, California
WEBSITE:http://www.cfpie.com/ProductDetails.aspx?ProductID=220
URL:http://www.cfpie.com/ProductDetails.aspx?ProductID=220
CONTACT:610-648-7550
ORGANIZER:The Center for Professional Innovation and Education
ATTACH;FMTTYPE="image/jpeg":
ATTENDEE;ROLE=REQ-PARTICIPANT;PARTSTAT=ACCEPTED;RSVP=TRUE;CN="SkinDoc 
 MD":https://community.dermrounds.com/profile/SkinDocMD
END:VEVENT
END:VCALENDAR
