BEGIN:VCALENDAR
PRODID:NingEventWidget-v1
VERSION:2.0
METHOD:PUBLISH
BEGIN:VTIMEZONE
TZID:America/Detroit
X-LIC-LOCATION:America/Detroit
BEGIN:DAYLIGHT
TZOFFSETFROM:-0500
TZOFFSETTO:-0400
TZNAME:EDT
DTSTART:19700308T020000
RRULE:FREQ=YEARLY;BYMONTH=3;BYDAY=2SU
END:DAYLIGHT
BEGIN:STANDARD
TZOFFSETFROM:-0400
TZOFFSETTO:-0500
TZNAME:EST
DTSTART:19701101T020000
RRULE:FREQ=YEARLY;BYMONTH=11;BYDAY=1SU
END:STANDARD
END:VTIMEZONE
BEGIN:VEVENT
UID:1980062:Event:51954
DTSTAMP:20260421T230502Z
SUMMARY:World Congress of Cosmetic Dermatology 2017
DESCRIPTION:WCOCD is planned as a premier all-encompassing event in Co
 smetology, Lasersurgery, Aesthetics and Dermatosurgery. The event also
  promises to be the largest event held in the field of Cosmetic Dermat
 ology in India so far. With a rise in the demand of the total transfor
 mation of the body & face, the Indian Wellness Industry & skin care tr
 eatment is set to witness exponential growth in the number of consulta
 nts in Cosmetic Dermatology. WCOCD 2017 will focus on educating the he
 alth professionals regarding the latest updates and modalities of trea
 tment with respect to Aesthetic dermatology. WCOCD 2017 also gives you
  an opportunity to improve your skills and update your knowledge in th
 e ever expanding field of Aesthetic Dermatology. Venue: Dr. Babu Raj
 endra Prasad International Convention Centre\n\nFor more information v
 isit https://community.dermrounds.com/events/world-congress-of-cosmeti
 c-dermatology-2017
DTSTART;TZID=America/Detroit:20170504T000000
DTEND;TZID=America/Detroit:20170506T235900
CATEGORIES:congress
LOCATION:Bengaluru (Bangalore), India
WEBSITE:http://www.wcocdbengaluru.com/
URL:http://www.wcocdbengaluru.com/
CONTACT:
ORGANIZER:
ATTACH;FMTTYPE="image/jpeg":
ATTENDEE;ROLE=REQ-PARTICIPANT;PARTSTAT=ACCEPTED;RSVP=TRUE;CN="SkinDoc 
 MD":https://community.dermrounds.com/profile/SkinDocMD
END:VEVENT
END:VCALENDAR
