BEGIN:VCALENDAR
PRODID:NingEventWidget-v1
VERSION:2.0
METHOD:PUBLISH
BEGIN:VTIMEZONE
TZID:America/Detroit
X-LIC-LOCATION:America/Detroit
BEGIN:DAYLIGHT
TZOFFSETFROM:-0500
TZOFFSETTO:-0400
TZNAME:EDT
DTSTART:19700308T020000
RRULE:FREQ=YEARLY;BYMONTH=3;BYDAY=2SU
END:DAYLIGHT
BEGIN:STANDARD
TZOFFSETFROM:-0400
TZOFFSETTO:-0500
TZNAME:EST
DTSTART:19701101T020000
RRULE:FREQ=YEARLY;BYMONTH=11;BYDAY=1SU
END:STANDARD
END:VTIMEZONE
BEGIN:VEVENT
UID:1980062:Event:30579
DTSTAMP:20260421T050437Z
SUMMARY:WOSIAM 11th Anti-Aging Medicine World Congress
DESCRIPTION:Aesthetic Dermatology and Surgery, Preventive and Anti-Agi
 ng Medicine, Global Aging Management Medical Spa\n\nFor more informati
 on visit https://community.dermrounds.com/events/wosiam-11th-anti-agin
 g-medicine-world-congress
DTSTART;TZID=America/Detroit:20130404T000000
DTEND;TZID=America/Detroit:20130406T235900
CATEGORIES:ama, accredited
LOCATION:Grimaldi Forum
WEBSITE:http://www.euromedicom.com
URL:http://www.euromedicom.com
CONTACT:0011 33 1 56 837 800
ORGANIZER;CN="Dermatology CME Planner":https://community.dermrounds.co
 m/profile/DermatologyCMEPlanner
ATTACH;FMTTYPE="image/jpeg":
ATTENDEE;ROLE=REQ-PARTICIPANT;PARTSTAT=ACCEPTED;RSVP=TRUE;CN="Dermatol
 ogy CME Planner":https://community.dermrounds.com/profile/DermatologyC
 MEPlanner
END:VEVENT
END:VCALENDAR
